BEGIN:VCALENDAR
VERSION:2.0
PRODID:-//Federación Riojana de Tenis - ECPv6.15.11//NONSGML v1.0//EN
CALSCALE:GREGORIAN
METHOD:PUBLISH
X-WR-CALNAME:Federación Riojana de Tenis
X-ORIGINAL-URL:https://www.frtenis.es
X-WR-CALDESC:Eventos para Federación Riojana de Tenis
REFRESH-INTERVAL;VALUE=DURATION:PT1H
X-Robots-Tag:noindex
X-PUBLISHED-TTL:PT1H
BEGIN:VTIMEZONE
TZID:Europe/Madrid
BEGIN:DAYLIGHT
TZOFFSETFROM:+0100
TZOFFSETTO:+0200
TZNAME:CEST
DTSTART:20180325T010000
END:DAYLIGHT
BEGIN:STANDARD
TZOFFSETFROM:+0200
TZOFFSETTO:+0100
TZNAME:CET
DTSTART:20181028T010000
END:STANDARD
BEGIN:DAYLIGHT
TZOFFSETFROM:+0100
TZOFFSETTO:+0200
TZNAME:CEST
DTSTART:20190331T010000
END:DAYLIGHT
BEGIN:STANDARD
TZOFFSETFROM:+0200
TZOFFSETTO:+0100
TZNAME:CET
DTSTART:20191027T010000
END:STANDARD
BEGIN:DAYLIGHT
TZOFFSETFROM:+0100
TZOFFSETTO:+0200
TZNAME:CEST
DTSTART:20200329T010000
END:DAYLIGHT
BEGIN:STANDARD
TZOFFSETFROM:+0200
TZOFFSETTO:+0100
TZNAME:CET
DTSTART:20201025T010000
END:STANDARD
BEGIN:DAYLIGHT
TZOFFSETFROM:+0100
TZOFFSETTO:+0200
TZNAME:CEST
DTSTART:20210328T010000
END:DAYLIGHT
BEGIN:STANDARD
TZOFFSETFROM:+0200
TZOFFSETTO:+0100
TZNAME:CET
DTSTART:20211031T010000
END:STANDARD
END:VTIMEZONE
BEGIN:VEVENT
DTSTART;TZID=Europe/Madrid:20200722T080000
DTEND;TZID=Europe/Madrid:20200725T170000
DTSTAMP:20260424T153705
CREATED:20200622T104737Z
LAST-MODIFIED:20200622T104737Z
UID:15053-1595404800-1595696400@www.frtenis.es
SUMMARY:Campeonato Territorial de La Rioja Cadete
DESCRIPTION:Cadete. Pruebas 1 y 3.
URL:https://www.frtenis.es/torneo/campeonato-territorial-de-la-rioja-cadete/
LOCATION:FRT (Prado Salobre)\, Logroño\, España
END:VEVENT
BEGIN:VEVENT
DTSTART;TZID=Europe/Madrid:20200722T080000
DTEND;TZID=Europe/Madrid:20200725T170000
DTSTAMP:20260424T153705
CREATED:20200622T104426Z
LAST-MODIFIED:20200622T104426Z
UID:15049-1595404800-1595696400@www.frtenis.es
SUMMARY:Campeonato Territorial de La Rioja Alevín
DESCRIPTION:Alevín. Pruebas 1 y 3.
URL:https://www.frtenis.es/torneo/campeonato-territorial-de-la-rioja-alevin/
LOCATION:FRT (Prado Salobre)\, Logroño\, España
END:VEVENT
BEGIN:VEVENT
DTSTART;TZID=Europe/Madrid:20200718T080000
DTEND;TZID=Europe/Madrid:20200721T170000
DTSTAMP:20260424T153705
CREATED:20200622T104218Z
LAST-MODIFIED:20200622T104218Z
UID:15047-1595059200-1595350800@www.frtenis.es
SUMMARY:Campeonato Territorial de La Rioja Junior
DESCRIPTION:Junior. Pruebas 1 y 3.
URL:https://www.frtenis.es/torneo/campeonato-territorial-de-la-rioja-junior/
LOCATION:FRT (Prado Salobre)\, Logroño\, España
END:VEVENT
BEGIN:VEVENT
DTSTART;TZID=Europe/Madrid:20200718T080000
DTEND;TZID=Europe/Madrid:20200721T170000
DTSTAMP:20260424T153705
CREATED:20200622T104044Z
LAST-MODIFIED:20200622T104925Z
UID:15045-1595059200-1595350800@www.frtenis.es
SUMMARY:Campeonato Territorial de La Rioja Infantil
DESCRIPTION:Infantil. Pruebas 1 y 3
URL:https://www.frtenis.es/torneo/campeonato-territorial-de-la-rioja-infantil/
LOCATION:FRT (Prado Salobre)\, Logroño\, España
END:VEVENT
BEGIN:VEVENT
DTSTART;TZID=Europe/Madrid:20200418T100000
DTEND;TZID=Europe/Madrid:20200419T190000
DTSTAMP:20260424T153705
CREATED:20191230T105301Z
LAST-MODIFIED:20191230T105301Z
UID:13502-1587204000-1587322800@www.frtenis.es
SUMMARY:1º Torneo La Laboral Tenis Club
DESCRIPTION:Alevín – Infantil – Cadete
URL:https://www.frtenis.es/torneo/1o-torneo-la-laboral-tenis-club-4/
LOCATION:La Laboral Tenis Club\, Logroño\, España
END:VEVENT
BEGIN:VEVENT
DTSTART;TZID=Europe/Madrid:20200404T100000
DTEND;TZID=Europe/Madrid:20200405T190000
DTSTAMP:20260424T153705
CREATED:20191230T105143Z
LAST-MODIFIED:20191230T105143Z
UID:13500-1585994400-1586113200@www.frtenis.es
SUMMARY:1º Social La Laboral Tenis Club
DESCRIPTION:Sub 10 – Alevín.
URL:https://www.frtenis.es/torneo/1o-social-la-laboral-tenis-club-3/
LOCATION:La Laboral Tenis Club\, Logroño\, España
END:VEVENT
BEGIN:VEVENT
DTSTART;TZID=Europe/Madrid:20200328T090000
DTEND;TZID=Europe/Madrid:20200405T190000
DTSTAMP:20260424T153705
CREATED:20191230T104937Z
LAST-MODIFIED:20191230T104937Z
UID:13498-1585386000-1586113200@www.frtenis.es
SUMMARY:XXXV Campeonato Territorial de La Rioja Veteranos +35
DESCRIPTION:Pruebas 1-3.
URL:https://www.frtenis.es/torneo/xxxv-campeonato-territorial-de-la-rioja-veteranos-35/
LOCATION:C.D.S. Hípica Militar\, Paseo de Las Norias\, Logroño\, La Rioja\, 26009\, España
END:VEVENT
BEGIN:VEVENT
DTSTART;TZID=Europe/Madrid:20200328T090000
DTEND;TZID=Europe/Madrid:20200405T190000
DTSTAMP:20260424T153705
CREATED:20191230T104801Z
LAST-MODIFIED:20191230T104823Z
UID:13495-1585386000-1586113200@www.frtenis.es
SUMMARY:IXXX Campeonato Territorial de La Rioja Junior
DESCRIPTION:Pruebas 1-3.
URL:https://www.frtenis.es/torneo/xxxiii-campeonato-territorial-de-la-rioja-junior/
LOCATION:C.D.S. Hípica Militar\, Paseo de Las Norias\, Logroño\, La Rioja\, 26009\, España
END:VEVENT
BEGIN:VEVENT
DTSTART;TZID=Europe/Madrid:20200328T090000
DTEND;TZID=Europe/Madrid:20200405T190000
DTSTAMP:20260424T153705
CREATED:20191230T104654Z
LAST-MODIFIED:20191230T104654Z
UID:13493-1585386000-1586113200@www.frtenis.es
SUMMARY:XXXIII Campeonato Territorial de La Rioja Infantil
DESCRIPTION:Pruebas 1-3.
URL:https://www.frtenis.es/torneo/xxxiii-campeonato-territorial-de-la-rioja-infantil/
LOCATION:C.D.S. Hípica Militar\, Paseo de Las Norias\, Logroño\, La Rioja\, 26009\, España
END:VEVENT
BEGIN:VEVENT
DTSTART;TZID=Europe/Madrid:20200314T090000
DTEND;TZID=Europe/Madrid:20200322T180000
DTSTAMP:20260424T153705
CREATED:20191230T104408Z
LAST-MODIFIED:20191230T104408Z
UID:13491-1584176400-1584900000@www.frtenis.es
SUMMARY:1º Open Ferrer Sport
DESCRIPTION:Sub 10 – Alevín – Infantil – Cadete – Absoluto.
URL:https://www.frtenis.es/torneo/1o-open-ferrer-sport-3/
LOCATION:FRT (Prado Salobre)\, Logroño\, España
END:VEVENT
BEGIN:VEVENT
DTSTART;TZID=Europe/Madrid:20200222T090000
DTEND;TZID=Europe/Madrid:20200223T180000
DTSTAMP:20260424T153705
CREATED:20191230T104148Z
LAST-MODIFIED:20191230T104148Z
UID:13489-1582362000-1582480800@www.frtenis.es
SUMMARY:2º Torneo F.R.T.
DESCRIPTION:Junior. Pruebas 1-3
URL:https://www.frtenis.es/torneo/2o-torneo-f-r-t/
LOCATION:FRT (Prado Salobre)\, Logroño\, España
END:VEVENT
BEGIN:VEVENT
DTSTART;TZID=Europe/Madrid:20200201T090000
DTEND;TZID=Europe/Madrid:20200401T190000
DTSTAMP:20260424T153705
CREATED:20191230T103257Z
LAST-MODIFIED:20191230T103641Z
UID:13479-1580547600-1585767600@www.frtenis.es
SUMMARY:Inter Clubs de La Rioja Alevín
DESCRIPTION:Alevín. Pruebas 1-2-3-4.
URL:https://www.frtenis.es/torneo/inter-clubs-de-la-rioja/
LOCATION:Varios Clubes\, España
END:VEVENT
BEGIN:VEVENT
DTSTART;TZID=Europe/Madrid:20200201T090000
DTEND;TZID=Europe/Madrid:20200301T180000
DTSTAMP:20260424T153705
CREATED:20191230T104018Z
LAST-MODIFIED:20191230T104018Z
UID:13487-1580547600-1583085600@www.frtenis.es
SUMMARY:Inter Clubs de La Rioja Junior
DESCRIPTION:Junior. Pruebas 1-2-3-4
URL:https://www.frtenis.es/torneo/inter-clubs-de-la-rioja-junior/
LOCATION:Varios Clubes\, España
END:VEVENT
BEGIN:VEVENT
DTSTART;TZID=Europe/Madrid:20200201T090000
DTEND;TZID=Europe/Madrid:20200301T180000
DTSTAMP:20260424T153705
CREATED:20191230T103906Z
LAST-MODIFIED:20191230T103906Z
UID:13485-1580547600-1583085600@www.frtenis.es
SUMMARY:Inter Clubs de La Rioja Cadete
DESCRIPTION:Cadete. Pruebas 1-2-3-4
URL:https://www.frtenis.es/torneo/inter-clubs-de-la-rioja-cadete/
LOCATION:Varios Clubes\, España
END:VEVENT
BEGIN:VEVENT
DTSTART;TZID=Europe/Madrid:20200201T090000
DTEND;TZID=Europe/Madrid:20200301T180000
DTSTAMP:20260424T153705
CREATED:20191230T103546Z
LAST-MODIFIED:20191230T103619Z
UID:13481-1580547600-1583085600@www.frtenis.es
SUMMARY:Inter Clubs de La Rioja Infantil
DESCRIPTION:Infantil. Pruebas 1-2-3-4.
URL:https://www.frtenis.es/torneo/inter-clubs-de-la-rioja-2/
LOCATION:Varios Clubes\, España
END:VEVENT
BEGIN:VEVENT
DTSTART;TZID=Europe/Madrid:20200125T090000
DTEND;TZID=Europe/Madrid:20200202T180000
DTSTAMP:20260424T153705
CREATED:20191230T103036Z
LAST-MODIFIED:20191230T103036Z
UID:13477-1579942800-1580666400@www.frtenis.es
SUMMARY:XVI Open Polideportivo Juventud
DESCRIPTION:Sub 10 – Alevín – Infantil – Cadete – Absoluto. Pruebas 1-3.
URL:https://www.frtenis.es/torneo/xvi-open-polideportivo-juventud/
LOCATION:Polideportivo Juventud\, Calahorra\, La Rioja\, España
END:VEVENT
BEGIN:VEVENT
DTSTART;TZID=Europe/Madrid:20200111T090000
DTEND;TZID=Europe/Madrid:20200112T180000
DTSTAMP:20260424T153705
CREATED:20191230T102818Z
LAST-MODIFIED:20191230T102818Z
UID:13475-1578733200-1578852000@www.frtenis.es
SUMMARY:1º Torneo F.R.T.
DESCRIPTION:Cadete. Pruebas 1 y 3.
URL:https://www.frtenis.es/torneo/1o-torneo-f-r-t/
LOCATION:FRT (Prado Salobre)\, Logroño\, España
END:VEVENT
BEGIN:VEVENT
DTSTART;TZID=Europe/Madrid:20191214T090000
DTEND;TZID=Europe/Madrid:20191222T180000
DTSTAMP:20260424T153705
CREATED:20191028T114043Z
LAST-MODIFIED:20191028T114043Z
UID:12207-1576314000-1577037600@www.frtenis.es
SUMMARY:Masters de La Rioja
DESCRIPTION:Alevín-Infantil-Cadete-Absoluto-Veteranos\nPruebas 1 y 3
URL:https://www.frtenis.es/torneo/masters-de-la-rioja-4/
LOCATION:FRT (Prado Salobre)\, Logroño\, España
END:VEVENT
BEGIN:VEVENT
DTSTART;TZID=Europe/Madrid:20191130T090000
DTEND;TZID=Europe/Madrid:20191201T180000
DTSTAMP:20260424T153705
CREATED:20191028T113846Z
LAST-MODIFIED:20191028T113846Z
UID:12205-1575104400-1575223200@www.frtenis.es
SUMMARY:3º Torneo Promocional de Dobles F.R.T.
DESCRIPTION:Absoluto\nPrueba 2
URL:https://www.frtenis.es/torneo/3o-torneo-promocional-de-dobles-f-r-t/
LOCATION:FRT (Prado Salobre)\, Logroño\, España
END:VEVENT
BEGIN:VEVENT
DTSTART;TZID=Europe/Madrid:20191130T090000
DTEND;TZID=Europe/Madrid:20191201T180000
DTSTAMP:20260424T153705
CREATED:20191028T113736Z
LAST-MODIFIED:20191028T113736Z
UID:12203-1575104400-1575223200@www.frtenis.es
SUMMARY:5º Torneo La Laboral Tenis Club
DESCRIPTION:Sub10-Infantil\nPruebas 1 y 3
URL:https://www.frtenis.es/torneo/5o-torneo-la-laboral-tenis-club-4/
LOCATION:La Laboral Tenis Club\, Logroño\, España
END:VEVENT
BEGIN:VEVENT
DTSTART;TZID=Europe/Madrid:20191122T090000
DTEND;TZID=Europe/Madrid:20191124T180000
DTSTAMP:20260424T153705
CREATED:20191028T113549Z
LAST-MODIFIED:20191028T113549Z
UID:12201-1574413200-1574618400@www.frtenis.es
SUMMARY:3º Torneo Social La Laboral Tenis Club
DESCRIPTION:Absoluto\nPruebas 1 y 3
URL:https://www.frtenis.es/torneo/3o-torneo-social-la-laboral-tenis-club/
LOCATION:La Laboral Tenis Club\, Logroño\, España
END:VEVENT
BEGIN:VEVENT
DTSTART;TZID=Europe/Madrid:20191109T090000
DTEND;TZID=Europe/Madrid:20191117T180000
DTSTAMP:20260424T153705
CREATED:20191028T113159Z
LAST-MODIFIED:20191028T113159Z
UID:12198-1573290000-1574013600@www.frtenis.es
SUMMARY:2º Open Ferrer Sport
DESCRIPTION:Alevín-Infantil-Cadete-Absoluto\nPruebas 1 y 3
URL:https://www.frtenis.es/torneo/2o-open-ferrer-sport-2/
LOCATION:FRT (Prado Salobre)\, Logroño\, España
END:VEVENT
BEGIN:VEVENT
DTSTART;TZID=Europe/Madrid:20191026T100000
DTEND;TZID=Europe/Madrid:20191027T180000
DTSTAMP:20260424T153705
CREATED:20191028T112954Z
LAST-MODIFIED:20191028T112954Z
UID:12196-1572084000-1572199200@www.frtenis.es
SUMMARY:1º Open Lexus Logroño
DESCRIPTION:alevín-infantil
URL:https://www.frtenis.es/torneo/1o-open-lexus-logrono/
LOCATION:FRT (Prado Salobre)\, Logroño\, España
END:VEVENT
BEGIN:VEVENT
DTSTART;TZID=Europe/Madrid:20191005T100000
DTEND;TZID=Europe/Madrid:20191013T190000
DTSTAMP:20260424T153705
CREATED:20191028T112836Z
LAST-MODIFIED:20191028T113400Z
UID:12194-1570269600-1570993200@www.frtenis.es
SUMMARY:´1º Open Grupo Ruiz
DESCRIPTION:Sub10\, Alevín\, infantil\nPruebas 1-3
URL:https://www.frtenis.es/torneo/1o-open-grupo-ruiz/
LOCATION:C.D.S. Hípica Militar\, Paseo de Las Norias\, Logroño\, La Rioja\, 26009\, España
END:VEVENT
BEGIN:VEVENT
DTSTART;TZID=Europe/Madrid:20190928T100000
DTEND;TZID=Europe/Madrid:20191006T190000
DTSTAMP:20260424T153705
CREATED:20190701T053817Z
LAST-MODIFIED:20190701T053817Z
UID:9704-1569664800-1570388400@www.frtenis.es
SUMMARY:XXXI Campeonato Territorial de La Rioja Absoluto
DESCRIPTION:Absluto
URL:https://www.frtenis.es/torneo/xxxi-campeonato-territorial-de-la-rioja-absoluto/
LOCATION:FRT (Prado Salobre)\, Logroño\, España
END:VEVENT
BEGIN:VEVENT
DTSTART;TZID=Europe/Madrid:20190928T100000
DTEND;TZID=Europe/Madrid:20191004T190000
DTSTAMP:20260424T153705
CREATED:20190701T053659Z
LAST-MODIFIED:20190701T053659Z
UID:9702-1569664800-1570215600@www.frtenis.es
SUMMARY:4º Torneo La Laboral Tenis Club
DESCRIPTION:Alevín
URL:https://www.frtenis.es/torneo/4o-torneo-la-laboral-tenis-club-4/
LOCATION:La Laboral Tenis Club\, Logroño\, España
END:VEVENT
BEGIN:VEVENT
DTSTART;TZID=Europe/Madrid:20190916T100000
DTEND;TZID=Europe/Madrid:20190922T190000
DTSTAMP:20260424T153705
CREATED:20190701T053603Z
LAST-MODIFIED:20190801T133011Z
UID:9700-1568628000-1569178800@www.frtenis.es
SUMMARY:XXVII Trofeo de La Vendimia Riojana
DESCRIPTION:Absoluto
URL:https://www.frtenis.es/torneo/xxvii-trofeo-de-la-vendimia-riojana/
LOCATION:FRT (Las Norias)\, Las Norias\, Logroño\, La Rioja\, España
END:VEVENT
BEGIN:VEVENT
DTSTART;TZID=Europe/Madrid:20190907T100000
DTEND;TZID=Europe/Madrid:20190915T190000
DTSTAMP:20260424T153705
CREATED:20190701T053447Z
LAST-MODIFIED:20190701T053447Z
UID:9698-1567850400-1568574000@www.frtenis.es
SUMMARY:VII Open La Cigüeña
DESCRIPTION:Alevín – Infantil – Cadete – Junior – Absoluto
URL:https://www.frtenis.es/torneo/vii-open-la-ciguena-2/
LOCATION:Club de Tenis Alfaro\, Avenida de la Molineta s/n\, Alfaro\, La Rioja\, 26540\, España
END:VEVENT
BEGIN:VEVENT
DTSTART;TZID=Europe/Madrid:20190826T100000
DTEND;TZID=Europe/Madrid:20190830T190000
DTSTAMP:20260424T153705
CREATED:20190701T053221Z
LAST-MODIFIED:20190701T053221Z
UID:9696-1566813600-1567191600@www.frtenis.es
SUMMARY:2º Open La Laboral Tenis Club
DESCRIPTION:Sub10 – Alevín – Infantil – Cadete – Junior – Absoluto
URL:https://www.frtenis.es/torneo/2o-open-la-laboral-tenis-club-3/
LOCATION:La Laboral Tenis Club\, Logroño\, España
END:VEVENT
BEGIN:VEVENT
DTSTART;TZID=Europe/Madrid:20190720T100000
DTEND;TZID=Europe/Madrid:20190727T190000
DTSTAMP:20260424T153705
CREATED:20190701T053115Z
LAST-MODIFIED:20190701T053115Z
UID:9694-1563616800-1564254000@www.frtenis.es
SUMMARY:IX Open Chile-Rioja
DESCRIPTION:Alevín – Infantil – Cadete – Absoluto
URL:https://www.frtenis.es/torneo/ix-open-chile-rioja/
LOCATION:FRT (Prado Salobre)\, Logroño\, España
END:VEVENT
END:VCALENDAR